Workbook

Sheet World leaders overview
A1: State | B1: Position | C1: Head of state / Head of government | D1: Nations studied in
D2: 1st nation | E2: 2nd nation | F2: 3rd | G2: 4th | H2: 5th | I2: 6th
A3: Afghanistan | B3: Supreme Leader | C3: Hibatullah Akhundzada | D3: None
A4: Afghanistan | B4: Prime Minister | C4: Hasan Akhund | D4: None
A5: Albania | B5: President | C5: Bajram Begaj | D5: Home
A6: Albania | B6: Prime Minister | C6: Edi Rama | D6: Home
A7: Algeria | B7: President | C7: Abdelmadjid Tebboune | D7: Home
A8: Algeria | B8: Prime Minister | C8: Sifi Ghrieb | D8: Home
A9: Andorra | B9: Episcopal Co-Prince | C9: Josep-Lluís Serrano Pentinat | D9: Home | E9: Italy
A10: Andorra | B10: French Co-Prince | C10: Emmanuel Macron | D10: (France)
A11: Andorra | B11: Prime Minister | C11: Xavier Espot Zamora | D11: Spain
A12: Angola | B12: President | C12: João Lourenço | D12: Home | E12: Russia
A13: Antigua and Barbuda | B13: King | C13: Charles III | D13: (Home)
A14: Antigua and Barbuda | B14: Prime Minister | C14: Gaston Browne | D14: UK
A15: Argentina | B15: President | C15: Javier Milei | D15: Home
A16: Armenia | B16: President | C16: Vahagn Khachaturyan | D16: Home
A17: Armenia | B17: Prime Minister | C17: Nikol Pashinyan | D17: Home
A18: Australia | B18: King | C18: Charles III | D18: (Home)
A19: Australia | B19: Prime Minister | C19: Anthony Albanese | D19: Home
A20: Austria | B20: President | C20: Alexander Van der Bellen | D20: Home
A21: Austria | B21: Chancellor | C21: Christian Stocker | D21: Home
A22: Azerbaijan | B22: President | C22: Ilham Aliyev | D22: Russia
A23: Azerbaijan | B23: Prime Minister | C23: Ali Asadov | D23: Russia
A24: Bahamas, The | B24: King | C24: Charles III | D24: (Home)
A25: Bahamas, The | B25: Prime Minister | C25: Philip Davis | D25: None
A26: Bahrain | B26: King | C26: Sheikh Hamad bin Isa Al Khalifa | D26: UK | E26: US
A27: Bahrain | B27: Prime Minister | C27: Prince Salman bin Hamad bin Isa Al Khalifa | D27: US | E27: UK
A28: Bangladesh | B28: Acting President | C28: Hafiz Uddin Ahmad | D28: Home
A29: Bangladesh | B29: Prime Minister | C29: Tarique Rahman | D29: Home
A30: Barbados | B30: President | C30: Jeffrey Bostic | D30: Home | E30: US | F30: UK
A31: Barbados | B31: Prime Minister | C31: Mia Mottley | D31: UK
A32: Belarus | B32: President | C32: Alexander Lukashenko | D32: Home
A33: Belarus | B33: Prime Minister | C33: Aleksandr Turchin | D33: Home
A34: Belgium | B34: King | C34: Philippe | D34: Home | E34: UK | F34: US
A35: Belgium | B35: Prime Minister | C35: Bart De Wever | D35: Home
A36: Belize | B36: King | C36: Charles III | D36: (Home)
A37: Belize | B37: Prime Minister | C37: Johnny Briceño | D37: Home | E37: US
A38: Benin | B38: President | C38: Romuald Wadagni | D38: France | E38: (US)
A39: Bhutan | B39: King | C39: Jigme Khesar Namgyel Wangchuck | D39: US | E39: UK | F39: India
A40: Bhutan | B40: Prime Minister | C40: Tshering Tobgay | D40: US
A41: Bolivia | B41: President | C41: Rodrigo Paz | D41: US
A42: Bosnia and Herzegovina | B42: Acting High Representative | C42: Louis Crishock | D42: US
A43: Bosnia and Herzegovina | B43: Presidency
A44: Bosnia and Herzegovina | C44: Denis Bećirović (as Chairman) | D44: Home
A45: Bosnia and Herzegovina | C45: Željko Komšić (as Member) | D45: Home
A46: Bosnia and Herzegovina | C46: Željka Cvijanović (as Member) | D46: Home
A47: Bosnia and Herzegovina | B47: Chairwoman of the Council of Ministers | C47: Borjana Krišto | D47: Home
A48: Botswana | B48: President | C48: Duma Boko | D48: Home | E48: US
A49: Brazil | B49: President | C49: Luiz Inácio Lula da Silva | D49: None
A50: Brunei | B50: Sultan and Prime Minister | C50: Hassanal Bolkiah | D50: UK
A51: Bulgaria | B51: President | C51: Iliana Iotova | D51: Home | E51: France
A52: Bulgaria | B52: Prime Minister | C52: Rumen Radev | D52: Home | E52: US
A53: Burkina Faso | B53: Interim President | C53: Ibrahim Traoré | D53: Home
A54: Burkina Faso | B54: Interim Prime Minister | C54: Jean Emmanuel Ouédraogo | D54: Home
A55: Burma | B55: President | C55: Min Aung Hlaing | D55: Home
A56: Burundi | B56: President | C56: Évariste Ndayishimiye | D56: Home
A57: Burundi | B57: Prime Minister | C57: Nestor Ntahontuye | D57: Home
A58: Cambodia | B58: President of the People's Party | C58: Hun Sen | D58: None
A59: Cambodia | B59: King | C59: Norodom Sihamoni | D59: Czech Republic
A60: Cambodia | B60: Prime Minister | C60: Hun Manet | D60: US | E60: UK
A61: Cameroon | B61: President | C61: Paul Biya | D61: France
A62: Cameroon | B62: Prime Minister | C62: Joseph Ngute | D62: Home | E62: UK
A63: Canada | B63: King | C63: Charles III | D63: (Home)
A64: Canada | B64: Prime Minister | C64: Mark Carney | D64: US | E64: UK
A65: Cape Verde | B65: President | C65: José Maria Neves | D65: Brazil
A66: Cape Verde | B66: Prime Minister | C66: Francisco Carvalho | D66: Portugal
A67: Central African Republic | B67: President | C67: Faustin-Archange Touadéra | D67: Home | E67: Ivory Coast | F67: France | G67: Cameroon
A68: Central African Republic | B68: Prime Minister | C68: Félix Moloua | D68: Home | E68: Cameroon
A69: Chad | B69: President | C69: Mahamat Déby | D69: Home | E69: France
A70: Chad | B70: Prime Minister | C70: Allamaye Halina | D70: Home | E70: Cameroon
A71: Chile | B71: President | C71: José Antonio Kast | D71: Home
A72: China | B72: President | C72: Xi Jinping | D72: Home
A73: China | B73: Premier of the State Council | C73: Li Qiang | D73: Home
A74: Colombia | B74: President | C74: Gustavo Petro | D74: Home | E74: Belgium | F74: (Spain)
A75: Comoros | B75: President | C75: Azali Assoumani | D75: Morocco | E75: France
A76: Congo, Democratic Republic of the | B76: President | C76: Félix Tshisekedi | D76: Belgium
A77: Congo, Democratic Republic of the | B77: Prime Minister | C77: Judith Suminwa | D77: Belgium
A78: Congo, Republic of the | B78: President | C78: Denis Sassou Nguesso | D78: Algeria | E78: France
A79: Congo, Republic of the | B79: Prime Minister | C79: Anatole Collinet Makosso | D79: Home | E79: France
A80: Costa Rica | B80: President | C80: Laura Fernández Delgado | D80: Home
A81: Croatia | B81: President | C81: Zoran Milanović | D81: Home | E81: Belgium
A82: Croatia | B82: Prime Minister | C82: Andrej Plenković | D82: Home
A83: Cuba | B83: First Secretary of the Communist Party and President | C83: Miguel Díaz-Canel | D83: Home
A84: Cuba | B84: Prime Minister | C84: Manuel Marrero Cruz | D84: Home
A85: Cyprus | B85: President | C85: Nikos Anastasiades | D85: US | E85: Malta | F85: Greece
A86: Czech Republic | B86: President | C86: Petr Pavel | D86: Home | E86: UK
A87: Czech Republic | B87: Prime Minister | C87: Andrej Babiš | D87: Home
A88: Denmark | B88: King | C88: Frederik X | D88: Home | E88: US
A89: Denmark | B89: Prime Minister | C89: Mette Frederiksen | D89: Home
A90: Djibouti | B90: President | C90: Ismaïl Omar Guelleh | D90: None
A91: Djibouti | B91: Prime Minister | C91: Abdoulkader Kamil Mohamed | D91: France
A92: Dominica | B92: President | C92: Sylvanie Burton | D92: Canada | E92: UK
A93: Dominica | B93: Prime Minister | C93: Roosevelt Skerrit | D93: US
A94: Dominican Republic | B94: President | C94: Luis Abinader | D94: Home | E94: US
A95: East Timor | B95: President | C95: José Ramos-Horta | D95: Netherlands | E95: US | F95: UK
A96: East Timor | B96: Prime Minister | C96: Xanana Gusmão | D96: None
A97: Ecuador | B97: President | C97: Daniel Noboa | D97: US
A98: Egypt | B98: President | C98: Abdel Fattah el-Sisi | D98: Home | E98: UK | F98: US
A99: Egypt | B99: Prime Minister | C99: Mostafa Madbouly | D99: Home
A100: El Salvador | B100: President | C100: Nayib Bukele | D100: None
...

Sheet Detailed qualifications
A1: Country of Leader | B1: Position | C1: Name of Leader | D1: Location of University | E1: HE Institution | F1: University | G1: Subject studied | H1: Graduated | I1: Type | J1: Scholarship | K1: Sex | L1: In-country | M1: UN Member or Observer State? | N1: Source
A2: Albania | B2: President | C2: Bajram Begaj | D2: Albania | E2: Faculty of Medicine | F2: University of Medicine, Tirana | G2: Medicine | H2: 1989 | I2: Undergraduate | K2: M | L2: Y | M2: Y
A3: Albania | B3: Prime Minister | C3: Edi Rama | D3: Albania | E3: University of Arts | F3: University of Arts | G3: Art | H3: 1988 | I3: Undergraduate | K3: M | L3: Y | M3: Y
A4: Algeria | B4: President | C4: Abdelmadjid Tebboune | D4: Algeria | E4: National School of Administration (Algeria) | F4: École nationale d'administration (Algeria) | G4: Economics and finance | H4: 1969 | I4: Undergraduate | K4: M | L4: Y | M4: Y
A5: Algeria | B5: Prime Minister | C5: Sifi Ghrieb | D5: Algeria | E5: Badji Mokhtar Annaba University | F5: Badji Mokhtar Annaba University | G5: Industrial engineering and economics | H5: Unknown | I5: Undergraduate | K5: M | L5: Y | M5: Y
A6: Algeria | B6: Prime Minister | C6: Sifi Ghrieb | D6: Algeria | E6: Badji Mokhtar Annaba University | F6: Badji Mokhtar Annaba University | G6: Chemistry | H6: Unknown | I6: Postgraduate | K6: M | L6: Y | M6: Y
A7: Andorra | B7: Episcopal Co-Prince | C7: Josep-Lluís Serrano Pentinat | D7: Spain | E7: Major Seminary of Tortosa | F7: Faculty of Theology of Catalonia | H7: 2001 | I7: Undergraduate | K7: M | L7: Y | M7: Y
A8: Andorra | B8: Episcopal Co-Prince | C8: Josep-Lluís Serrano Pentinat | D8: Italy | E8: Pontifical Gregorian University | F8: Pontifical Gregorian University | G8: Theology | H8: 2007 | I8: Postgraduate | K8: M | L8: Y | M8: Y
A9: Andorra | B9: Episcopal Co-Prince | C9: Josep-Lluís Serrano Pentinat | D9: Italy | E9: Pontifical Ecclesiastical Academy | F9: Pontifical Lateran University | G9: Canon law | H9: 2011 | I9: Postgraduate | K9: M | L9: Y | M9: Y
A10: Andorra | B10: Prime Minister | C10: Xavier Espot Zamora | D10: Spain | E10: ESADE Business School | F10: ESADE | G10: Law | H10: Unknown | I10: Undergraduate | K10: M | L10: Y | M10: Y
A11: Andorra | B11: Prime Minister | C11: Xavier Espot Zamora | D11: Spain | E11: Universitat Ramon Llull | F11: Universitat Ramon Llull | G11: Humanities | H11: Unknown | I11: Postgraduate | K11: M | L11: Y | M11: Y
A12: Angola | B12: President | C12: João Lourenço | D12: Angola | E12: Industrial Institute of Luanda | F12: Instituto Industrial de Luanda | G12: Unknown | H12: Unknown | I12: Undergraduate | K12: M | L12: Y | M12: Y
A13: Angola | B13: President | C13: João Lourenço | D13: Russia | E13: Lenin Military-Political Academy | F13: Lenin Military-Political Academy | G13: Historical Sciences | H13: 1982 | I13: Undergraduate | K13: M | L13: Y | M13: Y | N13: https://observador.pt/2017/02/18/quem-e-joao-lourenco-o-homem-que-ira-suceder-a-jose-eduardo-dos-santos/
A14: Antigua and Barbuda | B14: Prime Minister | C14: Gaston Browne | D14: UK | E14: City Banking College (London) | F14: City Banking College | G14: Banking | H14: Unknown | I14: Undergraduate | K14: M | L14: Y | M14: Y
A15: Antigua and Barbuda | B15: Prime Minister | C15: Gaston Browne | D15: UK | E15: University of Manchester | F15: University of Manchester | G15: Finance | H15: Unknown | I15: Postgraduate | K15: M | L15: Y | M15: Y
A16: Argentina | B16: President | C16: Javier Milei | D16: Argentina | E16: University of Belgrano | F16: University of Belgrano | G16: Economics | H16: 1993 | I16: Undergraduate | K16: M | L16: Y | M16: Y
A17: Armenia | B17: President | C17: Vahagn Khachaturyan | D17: Armenia | E17: Armenian State University of Economics | F17: Armenian State University of Economics | G17: Economics | H17: 1980 | I17: Undergraduate | K17: M | L17: Y | M17: Y
A18: Armenia | B18: Prime Minister | C18: Nikol Pashinyan | D18: Armenia | E18: Yerevan State University | F18: Yerevan State University | G18: Journalism | H18: 1995 | I18: Undergraduate | K18: M | L18: Y | M18: Y
A19: Australia | B19: Prime Minister | C19: Anthony Albanese | D19: Australia | E19: University of Sydney | F19: University of Sydney | G19: Economics | H19: 1984 | I19: Undergraduate | K19: M | L19: Y | M19: Y
A20: Austria | B20: President | C20: Alexander Van der Bellen | D20: Austria | E20: University of Innsbruck | F20: University of Innsbruck | G20: Economics | H20: 1966 | I20: Undergraduate | K20: M | L20: Y | M20: Y
A21: Austria | B21: President | C21: Alexander Van der Bellen | D21: Austria | E21: University of Innsbruck | F21: University of Innsbruck | G21: Economics | H21: 1970 | I21: Postgraduate | K21: M | L21: Y | M21: Y
A22: Austria | B22: Chancellor | C22: Christian Stocker | D22: Austria | E22: University of Vienna | F22: University of Vienna | G22: Law | H22: 1986 | I22: Undergraduate | K22: M | L22: Y | M22: Y
A23: Austria | B23: Chancellor | C23: Christian Stocker | D23: Austria | E23: University of Vienna | F23: University of Vienna | G23: Law | H23: 1987 | I23: Undergraduate | K23: M | L23: Y | M23: Y
A24: Azerbaijan | B24: President | C24: Ilham Aliyev | D24: Russia | E24: Moscow State Institute of International Relations | F24: Moscow State Institute of International Relations | G24: History | H24: 1982 | I24: Undergraduate | K24: M | L24: Y | M24: Y | N24: https://web.archive.org/web/20150120082618/http://en.president.az/president/biography
A25: Azerbaijan | B25: President | C25: Ilham Aliyev | D25: Russia | E25: Moscow State Institute of International Relations | F25: Moscow State Institute of International Relations | G25: History | H25: 1985 | I25: Postgraduate | K25: M | L25: Y | M25: Y | N25: https://web.archive.org/web/20150120082618/http://en.president.az/president/biography
A26: Azerbaijan | B26: Prime Minister | C26: Ali Asadov | D26: Russia | E26: Plekhanov Russian University of Economics | F26: Plekhanov Russian University of Economics | G26: Economics | H26: 1978 | I26: Undergraduate | K26: M | L26: Y | M26: Y | N26: https://web.archive.org/web/20200406111819/https://cabmin.gov.az/az/page/75/
A27: Bahrain | B27: King | C27: Hamad bin Isa Al Khalifa | D27: UK | E27: Mons Officer Cadet School | F27: Mons Officer Cadet School | G27: Military Training | H27: 1968 | I27: Military | K27: M | L27: Y | M27: Y
A28: Bahrain | B28: King | C28: Sheikh Hamad bin Isa Al Khalifa | D28: US | E28: US Army Command and Staff College, Fort Leavenworth | F28: US Army Command and Staff College | G28: Military Training | H28: 1973 | I28: Military | K28: M | L28: Y | M28: Y
A29: Bahrain | B29: Prime Minister | C29: Prince Salman bin Hamad bin Isa Al Khalifa | D29: US | E29: American University | F29: American University | G29: Public Administration | H29: 1992 | I29: Undergraduate | K29: M | L29: Y | M29: Y
A30: Bahrain | B30: Prime Minister | C30: Prince Salman bin Hamad bin Isa Al Khalifa | D30: UK | E30: Queen's College, Cambridge | F30: University of Cambridge | G30: History and Philosophy of Science | H30: 1994 | I30: Postgraduate | K30: M | L30: Y | M30: Y
A31: Bangladesh | B31: Acting President | C31: Hafiz Uddin Ahmad | D31: Bangladesh | E31: University of Dhaka | F31: University of Dhaka | G31: Political Science | H31: 1964 | I31: Undergraduate | K31: M | L31: Y | M31: Y
A32: Bangladesh | B32: Acting President | C32: Hafiz Uddin Ahmad | D32: Bangladesh | E32: University of Dhaka | F32: University of Dhaka | G32: Political Science | H32: 1965 | I32: Postgraduate | K32: M | L32: Y | M32: Y
A33: Bangladesh | B33: Prime Minister | C33: Tarique Rahman | D33: Bangladesh | E33: University of Dhaka | F33: University of Dhaka | G33: International Relations | H33: 1987 | I33: Undergraduate | K33: M | L33: Y | M33: Y
A34: Barbados | B34: President | C34: Jeffrey Bostic | D34: West Indies | E34: Cave Hill Campus | F34: University of the West Indies | G34: Caribbean and Latin American Studies | H34: Unknown | I34: Undergraduate | K34: M | L34: Y | M34: Y
A35: Barbados | B35: President | C35: Jeffrey Bostic | D35: UK | E35: Royal Military Academy Sandhurst | F35: Royal Military Academy Sandhurst | G35: Military Training | H35: Unknown | I35: Military | K35: M | L35: Y | M35: Y
A36: Barbados | B36: President | C36: Jeffrey Bostic | D36: US | E36: Inter-American Defense College | F36: Inter-American Defense College | G36: Hemispheric Security | H36: Unknown | I36: Postgraduate | K36: M | L36: Y | M36: Y
A37: Barbados | B37: Prime Minister | C37: Mia Mottley | D37: UK | E37: London School of Economics | F37: University of London | G37: Law | H37: 1986 | I37: Undergraduate | K37: F | L37: Y | M37: Y
A38: Belarus | B38: President | C38: Alexander Lukashenko | D38: Belarus | E38: Mogilev Pedagogical Institute | F38: Mogilev State A. Kuleshov University | G38: History | H38: 1975 | I38: Undergraduate | K38: M | L38: Y | M38: Y
A39: Belarus | B39: President | C39: Alexander Lukashenko | D39: Belarus | E39: Belarusian Agricultural Academy | F39: Belarusian Agricultural Academy | G39: Economics | H39: 1985 | I39: Postgraduate | K39: M | L39: N | M39: Y
A40: Belarus | B40: Prime Minister | C40: Aleksandr Turchin | D40: Belarus | E40: Kuleshov Mogilev State Pedagogical Institute | F40: Belarus State Economic University | G40: Economics | H40: 2002 | I40: Undergraduate | K40: M | L40: N | M40: Y
A41: Belarus | B41: Prime Minister | C41: Aleksandr Turchin | D41: Belarus | E41: Academy of Public Administration (Belarus) | F41: Academy of Public Administration (Belarus) | G41: Public administration | H41: 2009 | I41: Postgraduate | K41: M | L41: N | M41: Y
A42: Belgium | B42: King | C42: Philippe | D42: Belgium | E42: Belgian Royal Military Academy | F42: Belgian Royal Military Academy | G42: Military Training | H42: 1981 | I42: Military | K42: M | L42: Y | M42: Y
A43: Belgium | B43: King | C43: Philippe | D43: UK | E43: Trinity College, Oxford | F43: University of Oxford | G43: Constitutional History | H43: N/A | I43: Undergraduate | K43: M | L43: Y | M43: Y
A44: Belgium | B44: King | C44: Philippe | D44: US | E44: Stanford University | F44: Stanford University | G44: Political Science | H44: 1985 | I44: Postgraduate | K44: M | L44: Y | M44: Y
A45: Belgium | B45: Prime Minister | C45: Bart De Wever | D45: Belgium | E45: University of Antwerp | F45: University of Antwerp | G45: History | H45: 1995 | I45: Undergraduate | K45: M | L45: Y | M45: Y
A46: Belize | B46: Prime Minister | C46: Johnny Briceño | D46: Belize | E46: St. John's College, Belize | F46: St. John's College, Belize | G46: Business Administration | H46: 1980 | I46: Undergraduate | K46: M | L46: Y | M46: Y
A47: Belize | B47: Prime Minister | C47: Johnny Briceño | D47: US | E47: University of Texas at Austin | F47: University of Texas at Austin | G47: Business Administration | H47: 1985 | I47: Postgraduate | K47: M | L47: Y | M47: Y | N47: https://www.scoop.co.nz/stories/WL0803/S01716/cablegate-bio-belize-john-briceno.htm
A48: Benin | B48: President | C48: Romuald Wadagni | D48: France | E48: École Supérieure des Affaires de Grenoble | F48: École Supérieure des Affaires de Grenoble | G48: Finance | H48: 1999 | I48: Undergraduate | K48: M | L48: Y | M48: Y
A49: Benin | B49: President | C49: Romuald Wadagni | D49: US | E49: Harvard Business School | F49: Harvard University | G49: Business Administration | H49: 2015 | I49: Postgraduate | K49: M | L49: N | M49: Y | N49: http://web.archive.org/web/20250607093229/https://www.afrikatech.com/entreprendre/romuald-wadagni-pepite-beninoise-groupe-deloitte/?lang=fr
A50: Bhutan | B50: King | C50: Jigme Khesar Namgyel Wangchuck | D50: UK | E50: Magdalen College, Oxford | F50: University of Oxford | G50: Foreign Service Programme & International Relations | H50: 2000 | I50: Undergraduate | K50: M | L50: Y | M50: Y
A51: Bhutan | B51: King | C51: Jigme Khesar Namgyel Wangchuck | D51: US | E51: Wheaton College, Massachusetts | F51: Wheaton College | G51: Unknown | H51: 2001 | I51: Undergraduate | K51: M | L51: Y | M51: Y | N51: https://wheatoncollege.edu/news/a-personal-tour-of-bhutan/
A52: Bhutan | B52: King | C52: Jigme Khesar Namgyel Wangchuck | D52: India | E52: National Defence College | F52: National Defence College, New Delhi | G52: National security, defence and strategic studies | H52: 2005 | I52: Postgraduate | K52: M | L52: Y | M52: Y
A53: Bhutan | B53: Prime Minister | C53: Tshering Tobgay | D53: US | E53: Swanson School of Engineering, University of Pittsburgh | F53: University of Pittsburgh | G53: Mechanical Engineering | H53: 1990 | I53: Undergraduate | K53: M | L53: Y | M53: Y
A54: Bhutan | B54: Prime Minister | C54: Tshering Tobgay | D54: US | E54: John F. Kennedy School of Government, Harvard | F54: Harvard University | G54: Public Administration | H54: 2004 | I54: Postgraduate | K54: M | L54: Y | M54: Y
A55: Bolivia | B55: President | C55: Rodrigo Paz | D55: US | E55: School of International Service | F55: American University | G55: International Relations | H55: Unknown | I55: Undergraduate | K55: M | L55: Y | M55: Y
A56: Bolivia | B56: President | C56: Rodrigo Paz | D56: US | E56: American University | F56: American University | G56: Political Management | H56: Unknown | I56: Postgraduate | K56: M | L56: Y | M56: Y
A57: Bosnia and Herzegovina | B57: Acting High Representative | C57: Louis Crishock | D57: US | E57: Catholic University of America | F57: Catholic University of America | G57: Religion | H57: 1993 | I57: Undergraduate | K57: M | L57: Y | M57: Y | N57: https://web.archive.org/web/20250206023949/https://ru.usembassy.gov/our-relationship/bio-vladivostok-consul-general-ru/
A58: Bosnia and Herzegovina | B58: Acting High Representative | C58: Louis Crishock | D58: US | E58: Catholic University of America | F58: Catholic University of America | G58: Sociology | H58: 1995 | I58: Postgraduate | K58: M | L58: Y | M58: Y | N58: https://web.archive.org/web/20250206023949/https://ru.usembassy.gov/our-relationship/bio-vladivostok-consul-general-ru/
A59: Bosnia and Herzegovina | B59: Acting High Representative | C59: Louis Crishock | D59: US | E59: Dwight D. Eisenhower School for National Security and Resource Strategy | F59: National Defense University | G59: National Resource Strategy | H59: 2017 | I59: Postgraduate | K59: M | L59: Y | M59: Y | N59: https://web.archive.org/web/20250206023949/https://ru.usembassy.gov/our-relationship/bio-vladivostok-consul-general-ru/
A60: Bosnia and Herzegovina | B60: Chairman of Presidency | C60: Denis Bećirović | D60: Bosnia and Herzegovina | E60: University of Tuzla | F60: University of Tuzla | G60: History and Geography | H60: 1998 | I60: Undergraduate | K60: M | L60: Y | M60: Y
A61: Bosnia and Herzegovina | B61: Chairman of Presidency | C61: Denis Bećirović | D61: Bosnia and Herzegovina | E61: Faculty of Humanities | F61: University of Sarajevo | G61: History | H61: 2004 | I61: Postgraduate | K61: M | L61: Y | M61: Y
A62: Bosnia and Herzegovina | B62: Member of Presidency | C62: Željka Cvijanović | D62: Bosnia and Herzegovina | E62: Faculty of Humanities | F62: University of Sarajevo | G62: English Language and Literature | H62: Unknown | I62: Undergraduate | K62: F | L62: Y | M62: Y
A63: Bosnia and Herzegovina | B63: Member of Presidency | C63: Željka Cvijanović | D63: Bosnia and Herzegovina | E63: Faculty of Philosophy | F63: University of Banja Luka | G63: English Language and Literature | H63: 1995 | I63: Undergraduate | K63: F | L63: Y | M63: Y
A64: Bosnia and Herzegovina | B64: Member of Presidency | C64: Željka Cvijanović | D64: Bosnia and Herzegovina | E64: Faculty of Law | F64: University of Banja Luka | G64: Diplomatic and consular law | H64: 2006 | I64: Postgraduate | K64: F | L64: Y | M64: Y
A65: Bosnia and Herzegovina | B65: Member of Presidency | C65: Željko Komšić | D65: Bosnia and Herzegovina | E65: Faculty of Law | F65: University of Sarajevo | G65: Law | H65: 1988 | I65: Undergraduate | K65: M | L65: Y | M65: Y
A66: Bosnia and Herzegovina | B66: Chairwoman of the Council of Ministers | C66: Borjana Krišto | D66: Bosnia and Herzegovina | E66: Faculty of Law | F66: University of Banja Luka | G66: Law | H66: 1984 | I66: Undergraduate | K66: F | L66: Y | M66: Y
A67: Botswana | B67: President | C67: Duma Boko | D67: Botswana | E67: University of Botswana | F67: University of Botswana | G67: Law | H67: 1993 | I67: Undergraduate | K67: M | L67: Y | M67: Y
A68: Botswana | B68: President | C68: Duma Boko | D68: US | E68: Harvard Law School | F68: Harvard University | G68: Law | H68: 1995 | I68: Postgraduate | K68: M | L68: Y | M68: Y | N68: https://www.linkedin.com/in/duma-boko-9b571216/?originalSubdomain=bw
A69: Brunei | B69: Sultan and Prime Minister | C69: Hassanal Bolkiah | D69: UK | E69: Royal Military Academy Sandhurst | F69: Royal Military Academy Sandhurst | G69: Military Training | H69: 1968 | I69: Military | K69: M | L69: Y | M69: Y
A70: Bulgaria | B70: President | C70: Iliana Iotova | D70: Bulgaria | E70: Sofia University | F70: Sofia University | G70: Bulgarian and French philology | H70: 1989 | I70: Undergraduate | K70: F | L70: Y | M70: Y
A71: Bulgaria | B71: President | C71: Iliana Iotova | D71: France | E71: École nationale d'administration | F71: École nationale d'administration | G71: Public administration and European studies | H71: 2007 | I71: Postgraduate | K71: F | L71: Y | M71: Y
A72: Bulgaria | B72: Prime Minister | C72: Rumen Radev | D72: Bulgaria | E72: Georgi Benkovski Bulgarian Air Force University | F72: Georgi Benkovski Bulgarian Air Force University | G72: Military Training | H72: 1987 | I72: Military | K72: M | L72: Y | M72: Y
A73: Bulgaria | B73: Prime Minister | C73: Rumen Radev | D73: US | E73: US Air Force Squadron Officer School | F73: Air University | G73: Military Training | H73: 1992 | I73: Military | K73: M | L73: Y | M73: Y
A74: Bulgaria | B74: Prime Minister | C74: Rumen Radev | D74: US | E74: US Air Force Air War College | F74: Air University | G74: Strategic Studies | H74: 2003 | I74: Military | K74: M | L74: Y | M74: Y | N74: https://www.president.bg/news8234/radev-meets-with-representatives-of-the-us-air-war-college.html?lang=en&skipMobile=1
A75: Burkina Faso | B75: Interim President | C75: Ibrahim Traoré | D75: Burkina Faso | E75: University of Ouagadougou | F75: University of Ouagadougou | G75: Geology | H75: 2009 | I75: Undergraduate | K75: M | L75: Y | M75: Y
A76: Burkina Faso | B76: Interim Prime Minister | C76: Jean Emmanuel Ouédraogo | D76: Burkina Faso | E76: University of Ouagadougou | F76: University of Ouagadougou | G76: Sociology | H76: Unknown | I76: Undergraduate | K76: M | L76: Y | M76: Y
A77: Burma | B77: Chairman of the State Administration Council & Acting President | C77: Min Aung Hlaing | D77: Burma | E77: Rangoon Arts and Science University | F77: Rangoon Arts and Science University | G77: Law | H77: 1994 | I77: Undergraduate | K77: M | L77: Y | M77: Y
A78: Burma | B78: Chairman of the State Administration Council & Acting President | C78: Min Aung Hlaing | D78: Burma | E78: Defence Services Academy | F78: Defence Services Academy | G78: Military Training | H78: 1977 | I78: Military | K78: M | L78: Y | M78: Y
A79: Burundi | B79: President | C79: Évariste Ndayishimiye | D79: Burundi | E79: University of Burundi | F79: University of Burundi | G79: Law | H79: 1995 | I79: Undergraduate | K79: M | L79: Y | M79: Y
A80: Burundi | B80: Prime Minister | C80: Nestor Ntahontuye | D80: Burundi | E80: University of Burundi | F80: University of Burundi | G80: Statistics | H80: Unknown | I80: Undergraduate | K80: M | L80: Y | M80: Y
A81: Cambodia | B81: King | C81: Norodom Sihamoni | D81: Czech Republic | E81: Academy of Performing Arts in Prague | F81: Academy of Performing Arts in Prague | G81: Classical dance and music | H81: 1975 | I81: Undergraduate | K81: M | L81: Y | M81: Y
A82: Cambodia | B82: Prime Minister | C82: Hun Manet | D82: UK | E82: University of Bristol | F82: University of Bristol | G82: Economics | H82: 2009 | I82: Postgraduate | K82: M | L82: Y | M82: Y
A83: Cambodia | B83: Prime Minister | C83: Hun Manet | D83: US | E83: New York University | F83: New York University | G83: Economics | H83: 2002 | I83: Postgraduate | K83: M | L83: Y | M83: Y
A84: Cameroon | B84: President | C84: Paul Biya | D84: France | E84: Institut des hautes études d'Outre-Mer | F84: Institut national du service public | G84: Public law | H84: 1961 | I84: Undergraduate | K84: M | L84: Y | M84: Y
A85: Cameroon | B85: Prime Minister | C85: Joseph Ngute | D85: Cameroon | E85: University of Yaoundé | F85: University of Yaoundé | G85: Law | H85: 1977 | I85: Undergraduate | K85: M | L85: Y | M85: Y
A86: Cameroon | B86: Prime Minister | C86: Joseph Ngute | D86: UK | E86: University of Warwick | F86: University of Warwick | G86: Law | H86: 1982 | I86: Postgraduate | K86: M | L86: Y | M86: Y
A87: Canada | B87: Prime Minister | C87: Mark Carney | D87: UK | E87: St Peter's College, Oxford | F87: University of Oxford | G87: Economics | H87: 1993 | I87: Postgraduate | K87: M | L87: Y | M87: Y | N87: https://www.linkedin.com/in/mark-carney-5b9744205/details/education/
A88: Canada | B88: Prime Minister | C88: Mark Carney | D88: UK | E88: Nuffield College, Oxford | F88: University of Oxford | G88: Economics | H88: 1995 | I88: Postgraduate | K88: M | L88: Y | M88: Y | N88: https://www.nuffield.ox.ac.uk/people/profiles/mark-carney/
A89: Canada | B89: Prime Minister | C89: Mark Carney | D89: US | E89: Harvard University | F89: Harvard University | G89: Economics | H89: 1993 | I89: Postgraduate | J89: Partial | K89: M | L89: Y | M89: Y | N89: https://www.linkedin.com/in/mark-carney-5b9744205/details/education/
A90: Cape Verde | B90: President | C90: José Maria Neves | D90: Brazil | E90: Escola de Administração de Empresas de São Paulo | F90: Escola de Administração de Empresas de São Paulo | G90: Public Administration | H90: 1986 | I90: Undergraduate | K90: M | L90: Y | M90: Y
A91: Cape Verde | B91: President | C91: José Maria Neves | D91: Portugal | E91: Instituto Universitário de Lisboa | F91: Instituto Universitário de Lisboa | G91: Public Policy | H91: Incomplete | I91: Postgraduate | K91: M | L91: Y | M91: Y
A92: Cape Verde | B92: Prime Minister | C92: Francisco Carvalho | D92: Portugal | E92: NOVA University of Lisbon | F92: NOVA University of Lisbon | G92: Sociology | H92: Unknown | I92: Undergraduate | K92: M | L92: Y | M92: Y
A93: Central African Republic | B93: President | C93: Faustin-Archange Touadéra | D93: Central African Republic | E93: University of Bangui | F93: University of Bangui | G93: Mathematics | H93: 1979 | I93: Undergraduate | K93: M | L93: Y | M93: Y
A94: Central African Republic | B94: President | C94: Faustin-Archange Touadéra | D94: Ivory Coast | E94: University of Cocody | F94: University of Cocody | G94: Mathematics | H94: 1981 | I94: Postgraduate | K94: M | L94: Y | M94: Y
A95: Central African Republic | B95: President | C95: Faustin-Archange Touadéra | D95: France | E95: Lille 1 University of Science and Technology | F95: Université de Lille | G95: Mathematics | H95: 1986 | I95: Postgraduate | K95: M | L95: Y | M95: Y
A96: Central African Republic | B96: President | C96: Faustin-Archange Touadéra | D96: Cameroon | E96: University of Yaoundé | F96: University of Yaoundé | G96: Mathematics | H96: 2004 | I96: Postgraduate | K96: M | L96: Y | M96: Y
A97: Central African Republic | B97: Prime Minister | C97: Félix Moloua | D97: Central African Republic | E97: École Normale Supérieure | F97: University of Bangui | G97: Mathematics and Physics | H97: 1981 | I97: Undergraduate | K97: M | L97: Y | M97: Y
A98: Central African Republic | B98: Prime Minister | C98: Félix Moloua | D98: Cameroon | E98: Institut de Formation et de Recherches Démographiques | F98: University of Yaoundé II | G98: Demography | H98: 1995 | I98: Postgraduate | K98: M | L98: Y | M98: Y
A99: Chad | B99: President | C99: Mahamat Déby | D99: Chad | E99: Groupement des écoles militaires interarmées | F99: Groupement des écoles militaires interarmées | G99: Military Training | H99: Unknown | I99: Military | K99: M | L99: Y | M99: Y
A100: Chad | B100: President | C100: Mahamat Déby | D100: France | E100: Lycée militaire d'Aix-en-Provence | F100: Lycée militaire d'Aix-en-Provence | G100: Military training | H100: Unknown | I100: Military | K100: M | L100: Y | M100: Y
...

Sheet League table
A1: Nation | B1: Number of leaders educated 2026 | C1: change | D1: Number of leaders educated 2025 | E1: change | F1: Number of leaders educated 2024 | G1: change | H1: Number of leaders educated 2023 | I1: change | J1: Number of leaders educated 2022 | K1: change | L1: Number of leaders educated 2021 | M1: change | N1: Number of leaders educated 2020 | O1: change | P1: Number of leaders educated 2019 | Q1: change | R1: Number of leaders educated 2018 | S1: change | T1: Number of leaders educated 2017
A2: US | B2: =COUNTIF('World leaders overview'!D:I,"US") -> 66 | C2: =B2-D2 -> -1 | D2: 67 | E2: -2 | F2: 69 | G2: 5 | H2: 64 | I2: -2 | J2: 66 | K2: 3 | L2: 63 | M2: 2 | N2: 61 | O2: -1 | P2: 62 | Q2: 4 | R2: 58 | S2: 1 | T2: 57
A3: UK | B3: =COUNTIF('World leaders overview'!D:I,"UK") -> 60 | C3: = | D3: 60 | E3: 2 | F3: 58 | G3: = | H3: 58 | I3: 1 | J3: 57 | K3: -3 | L3: 60 | M3: 3 | N3: 57 | O3: -2 | P3: 59 | Q3: 2 | R3: 57 | S3: -1 | T3: 58
A4: France | B4: =COUNTIF('World leaders overview'!D:I,"France") -> 29 | C4: =B4-D4 -> 3 | D4: 26 | E4: -4 | F4: 30 | G4: -1 | H4: 31 | I4: -1 | J4: 32 | K4: 1 | L4: 31 | M4: -4 | N4: 35 | O4: -6 | P4: 41 | Q4: 1 | R4: 40 | S4: 6 | T4: 34
A5: Russia | B5: =COUNTIF('World leaders overview'!D:I,"Russia") -> 12 | C5: =B5-D5 -> -1 | D5: 13 | E5: 3 | F5: 10 | G5: = | H5: 10 | I5: -1 | J5: 11 | K5: = | L5: 11 | M5: 1 | N5: 10 | O5: = | P5: 10 | Q5: = | R5: 10 | S5: 1 | T5: 9
A6: Australia | B6: =COUNTIF('World leaders overview'!D:I,"Australia") -> 8 | C6: =B6-D6 -> -1 | D6: 9 | E6: 2 | F6: 7 | G6: 1 | H6: 6 | I6: -1 | J6: 7 | K6: -3 | L6: 10 | M6: = | N6: 10 | O6: 1 | P6: 9 | Q6: = | R6: 9 | S6: = | T6: 9
A7: India | B7: =COUNTIF('World leaders overview'!D:I,"India") -> 8 | C7: =B7-D7 -> 2 | D7: 6 | E7: 2 | F7: 4 | G7: = | H7: 4 | I7: 1 | J7: 3 | K7: = | L7: 3 | M7: = | N7: 3 | O7: 1 | P7: 2 | Q7: -1 | R7: 3 | S7: = | T7: 3
A8: Italy | B8: =COUNTIF('World leaders overview'!D:I,"Italy") -> 7 | C8: =B8-D8 -> 2 | D8: 5 | E8: -1 | F8: 6 | G8: = | H8: 6 | I8: 1 | J8: 5 | K8: 1 | L8: 4 | M8: 2 | N8: 2 | O8: -1 | P8: 3 | Q8: 1 | R8: 2 | S8: = | T8: 2
A9: Belgium | B9: =COUNTIF('World leaders overview'!D:I,"Belgium") -> 6 | C9: = | D9: 6 | E9: -1 | F9: 7 | G9: 2 | H9: 5 | I9: 1 | J9: 4 | K9: = | L9: 4 | M9: = | N9: 4 | O9: = | P9: 3 | Q9: = | R9: 3 | S9: 1 | T9: 2
A10: Canada | B10: =COUNTIF('World leaders overview'!D:I,"Canada") -> 6 | C10: =B10-D10 -> 1 | D10: 5 | E10: = | F10: 5 | G10: 1 | H10: 4 | I10: -3 | J10: 7 | K10: 1 | L10: 6 | M10: 1 | N10: 4 | O10: = | P10: 4 | Q10: -1 | R10: 5 | S10: = | T10: 5
A11: Switzerland | B11: =COUNTIF('World leaders overview'!D:I,"Switzerland") -> 6 | C11: =B11-D11 -> -1 | D11: 7 | E11: 1 | F11: 6 | G11: -1 | H11: 7 | I11: = | J11: 7 | K11: 2 | L11: 5 | M11: 1 | N11: 4 | O11: -1 | P11: 5 | Q11: = | R11: 5 | S11: = | T11: 5
A12: Germany | B12: =COUNTIF('World leaders overview'!D:I,"Germany") -> 5 | C12: =B12-D12 -> 1 | D12: 4 | E12: -2 | F12: 6 | G12: 1 | H12: 5 | I12: -1 | J12: 6 | K12: 1 | L12: 5 | M12: 1 | N12: 4 | O12: = | P12: 4 | Q12: 1 | R12: 3 | S12: -1 | T12: 4
A13: Morocco | B13: =COUNTIF('World leaders overview'!D:I,"Morocco") -> 5 | C13: =B13-D13 -> 1 | D13: 4 | E13: 1 | F13: 3 | G13: = | H13: 3 | I13: 1 | J13: 2 | K13: = | L13: 2 | M13: = | N13: 2 | O13: = | P13: 2 | Q13: = | R13: 2 | S13: = | T13: 2
A14: China | B14: =COUNTIF('World leaders overview'!D:I,"China") -> 4 | C14: = | D14: 4 | E14: 1 | F14: 3 | G14: 1 | H14: 2 | I14: = | J14: 1 | K14: = | L14: 1 | M14: = | N14: 1 | O14: = | P14: 1 | Q14: -1 | R14: 2 | S14: = | T14: 2
A15: Egypt | B15: =COUNTIF('World leaders overview'!D:I,"Egypt") -> 4 | C15: =B15-D15 -> 1 | D15: 3 | E15: 1 | F15: 2 | G15: -1 | H15: 3 | I15: = | J15: 3 | K15: = | L15: 3 | M15: = | N15: 3 | O15: = | P15: 3 | Q15: = | R15: 3 | S15: -1 | T15: 4
A16: Spain | B16: =COUNTIF('World leaders overview'!D:I,"Spain") -> 4 | C16: = | D16: 4 | E16: -1 | F16: 5 | G16: 0 | H16: 4 | I16: 1 | J16: 3 | K16: = | L16: 3 | M16: -1 | N16: 4 | O16: 2 | P16: 2 | Q16: = | R16: 2 | S16: = | T16: 2
A17: Netherlands | B17: =COUNTIF('World leaders overview'!D:I,"Netherlands") -> 4 | C17: = | D17: 4 | E17: -1 | F17: 5 | G17: 1 | H17: 4 | I17: 1 | J17: 3 | K17: 2 | L17: 1 | M17: -1 | N17: 2 | O17: -1 | P17: 3 | Q17: = | R17: 3 | S17: 1 | T17: 2
A18: Algeria | B18: =COUNTIF('World leaders overview'!D:I,"Algeria") -> 3 | C18: = | D18: 3 | E18: = | F18: 3 | G18: = | H18: 3 | I18: = | J18: 3 | K18: 1 | L18: 2 | M18: 1 | N18: 1 | O18: = | P18: 1 | Q18: = | R18: 1 | S18: = | T18: 1
A19: Austria | B19: =COUNTIF('World leaders overview'!D:I,"Austria") -> 3 | C19: = | D19: 3 | E19: = | F19: 3 | G19: = | H19: 3 | I19: 1 | J19: 2 | K19: = | L19: 2 | M19: -1 | N19: 3 | O19: = | P19: 4 | Q19: = | R19: 4 | S19: 1 | T19: 3
A20: Cameroon | B20: =COUNTIF('World leaders overview'!D:I,"Cameroon") -> 3 | C20: = | D20: 3 | E20: = | F20: 3 | G20: 1 | H20: 2 | I20: = | J20: 2 | K20: 1 | L20: 1 | M20: = | N20: 1 | O20: = | P20: 1 | Q20: = | R20: 1 | S20: = | T20: 1
A21: Czech Republic | B21: =COUNTIF('World leaders overview'!D:I,"Czech Republic") -> 2 | C21: =B21-D21 -> 1 | D21: 1 | E21: -1 | F21: 2 | G21: = | H21: 2 | I21: = | J21: 2 | K21: = | L21: 2 | M21: = | N21: 2 | O21: = | P21: 2 | Q21: = | R21: 2 | S21: = | T21: 2
A22: Ireland | B22: =COUNTIF('World leaders overview'!D:I,"Ireland") -> 2 | C22: = | D22: 2 | E22: 1 | F22: 1 | G22: = | H22: 1 | I22: = | J22: 1 | K22: = | L22: 1 | M22: = | N22: 1 | O22: = | P22: 1 | Q22: = | R22: 1 | S22: = | T22: 1
A23: Japan | B23: =COUNTIF('World leaders overview'!D:I,"Japan") -> 2 | C23: =B23-D23 -> 1 | D23: 1 | E23: = | F23: 1 | G23: = | H23: 1 | I23: = | J23: 1 | K23: = | L23: 1 | M23: = | N23: 1 | O23: = | P23: 1 | Q23: 1 | R23: 0 | S23: -1 | T23: 1
A24: New Zealand | B24: =COUNTIF('World leaders overview'!D:I,"New Zealand") -> 2 | C24: =B24-D24 -> -1 | D24: 3 | E24: -1 | F24: 4 | G24: = | H24: 4 | I24: 1 | J24: 3 | K24: = | L24: 3 | M24: = | N24: 3 | O24: 1 | P24: 2 | Q24: 1 | R24: 1 | S24: -2 | T24: 3
A25: South Africa | B25: =COUNTIF('World leaders overview'!D:I,"South Africa") -> 2 | C25: =B25-D25 -> -2 | D25: 4 | E25: = | F25: 4 | G25: -1 | H25: 5 | I25: = | J25: 5 | K25: = | L25: 5 | M25: 2 | N25: 3 | O25: 1 | P25: 2 | Q25: -1 | R25: 3 | S25: = | T25: 3
A28: No higher education | B28: =COUNTIF('World leaders overview'!D:I,"None") -> 21 | C28: =B28-D28 -> -1 | D28: 22 | E28: 2 | F28: 20 | G28: 1 | H28: 19 | I28: -1 | J28: 20 | K28: 5 | L28: 15 | M28: -3 | N28: 18 | O28: = | P28: 18 | Q28: 3 | R28: 15 | S28: 1 | T28: 14
A29: Educated in home country | B29: =COUNTIF('World leaders overview'!D:I,"Home") -> 209 | C29: =B29-D29 -> -5 | D29: 214 | E29: 4 | F29: 210 | G29: -1 | H29: 211 | I29: -2 | J29: 214 | K29: = | L29: 212 | M29: 9 | N29: 203 | O29: 1 | P29: 202 | Q29: -2 | R29: 203 | S29: 2 | T29: 201
A30: Educated only in home country | B30: 120 | C30: =B30-D30 -> -8 | D30: 128 | E30: 9 | F30: 119 | G30: -4 | H30: 123 | I30: 4 | J30: 119 | K30: -4 | L30: 123 | M30: 3 | N30: 120 | O30: = | P30: 120 | Q30: -7 | R30: 126 | S30: -3 | T30: 129
A32: NB Cuba, Portugal, Senegal and Trinidad and Tobago drop out of league table with just 1 student world leader apiece.

Sheet Top Universities
A1: University | B1: Number of leaders attending
A2: Harvard University | B2: 16
A3: University of London | B3: 15
A4: University of Oxford | B4: 11
A5: Royal Military Academy Sandhurst | B5: 9
A6: University of the West Indies | B6: 7
A7: University of Cambridge | B7: 6
A8: American University | B8: 4
A9: Boston University | B9: 4
A10: École nationale d'administration | B10: 4
A11: New York University | B11: 4
A12: Sciences Po | B12: 4
A13: Sorbonne University | B13: 4
... A79: Yale University | B79: 2

Sheet Notes
A1: Notes.
A2: 1. World Leaders are defined as heads of state and heads of government (monarchs, presidents and prime ministers). Countries often have more than one (such as a president or monarch and a prime minister).
A3: 2. Countries are included if they are members of, or observers at, the United Nations. Palestine is therefore included but Northern Cyprus, for example, is not.
A4: 3. The HEPI / Kaplan Soft-Power Index is a measure of tertiary education. This is defined broadly but distance learning and transnational education are excluded for the soft-power benefits are thought to be less. In the detailed listings, the ‘Campus’ column is used to denote whether the course was studied in person within the host country.
A5: 4. Leaders change throughout the year, so we provide a snapshot at 1 August 2026. New leaders since the previous year's league table are highlighted in yellow.
A6: 5. Each country is treated equally and we do not claim each individual result provides good evidence of positive soft power. No one is excluded on moral grounds.
A7: 6. Some leaders were educated in more than one other country and they can therefore count towards the totals for more than one country.
A8: 7. While we use multiple sources to obtain information, the educational background of some national leaders is opaque. HEPI welcomes feedback that would enable us to build up a more complete picture.
A9: 8. Education in a leader’s own home country is excluded.
A10: 9. When new information comes to light, we update the figures (indicated with green highlights). So there are some slight differences in the figures provided here for earlier years compared with what we have published in the past. For example, it emerged that Gustavo Petro, President of Colombia from August 2022 to August 2026, did not actually attend his studies at a Spanish university in Spain, so the numbers for Spain in 2023 to 2025 have each been reduced by one to reflect this. As another example, it was also discovered that Irfaan Ali, President of Guyana since August 2020, had UK qualifications, so the UK figures for 2021 to 2025 have also been updated.
A11: 10. King Charles III’s higher education was delivered in the UK (at the University of Cambridge), the country where he was born and lives, and he is head of state of other countries in part by virtue of his position in the UK. So we have opted to exclude this information. This matches how we treat the President of France, Emmanuel Macron, who is one of the heads of state (Co-Prince) of Andorra.
A12: 11. The University of the West Indies (UWI) serves 18 countries and territories in the Caribbean, and the University of the South Pacific serves 12 Pacific countries. Attempting to unpick the place of study for those world leaders who studied at the UWI and USP is beyond the scope of this study. Therefore, we have assumed that each one studied in their home nation. This is the same practice as followed in earlier years.
